BEGIN:VCALENDAR
VERSION:2.0
PRODID:spatie/icalendar-generator
DESCRIPTION:Events from Onondaga Nation Fieldhouse
X-WR-CALDESC:Events from Onondaga Nation Fieldhouse
REFRESH-INTERVAL;VALUE=DURATION:PT1440M
X-PUBLISHED-TTL:PT1440M
BEGIN:VTIMEZONE
TZID:Etc/GMT+0
BEGIN:STANDARD
DTSTART:20250729T000000Z
TZOFFSETFROM:+0000
TZOFFSETTO:+0000
END:STANDARD
END:VTIMEZONE
BEGIN:VTIMEZONE
TZID:UTC
BEGIN:STANDARD
DTSTART:20250727T155620Z
TZOFFSETFROM:+0000
TZOFFSETTO:+0000
END:STANDARD
END:VTIMEZONE
BEGIN:VEVENT
UID:7624-1254
DTSTAMP:20260423T155620Z
SUMMARY:Birthday Party
LOCATION:
ORGANIZER;CN=Ed Shenandoah:MAILTO:Tshathonnhes@gmail.com
DTSTART;TZID=Etc/GMT+0;VALUE=DATE:20260425
DTEND;TZID=Etc/GMT+0;VALUE=DATE:20260426
X-ALT-DESC;FMTTYPE=TEXT/HTML:
CATEGORIES:General
URL;VALUE=URI:https://www.onondagafieldhouse.com/mc-events/birthday-party-4
 4/
METHOD:PUBLISH
END:VEVENT
END:VCALENDAR