BEGIN:VCALENDAR
VERSION:2.0
PRODID:spatie/icalendar-generator
DESCRIPTION:Events from Onondaga Nation Fieldhouse
X-WR-CALDESC:Events from Onondaga Nation Fieldhouse
REFRESH-INTERVAL;VALUE=DURATION:PT1440M
X-PUBLISHED-TTL:PT1440M
BEGIN:VTIMEZONE
TZID:Etc/GMT+0
BEGIN:STANDARD
DTSTART:20250706T180000Z
TZOFFSETFROM:+0000
TZOFFSETTO:+0000
END:STANDARD
END:VTIMEZONE
BEGIN:VTIMEZONE
TZID:UTC
BEGIN:STANDARD
DTSTART:20250727T155117Z
TZOFFSETFROM:+0000
TZOFFSETTO:+0000
END:STANDARD
END:VTIMEZONE
BEGIN:VEVENT
UID:7541-1288
DTSTAMP:20260423T155117Z
SUMMARY:H.O.P.E Movie Night
LOCATION:
ORGANIZER;CN=Ed Shenandoah:MAILTO:Tshathonnhes@gmail.com
DTSTART;TZID=Etc/GMT+0:20260402T180000
DTEND;TZID=Etc/GMT+0:20260402T220000
X-ALT-DESC;FMTTYPE=TEXT/HTML:
CATEGORIES:General
URL;VALUE=URI:https://www.onondagafieldhouse.com/mc-events/h-o-p-e-movie-ni
 ght-2/
METHOD:PUBLISH
END:VEVENT
END:VCALENDAR