BEGIN:VCALENDAR
VERSION:2.0
PRODID:spatie/icalendar-generator
DESCRIPTION:Events from Onondaga Nation Fieldhouse
X-WR-CALDESC:Events from Onondaga Nation Fieldhouse
REFRESH-INTERVAL;VALUE=DURATION:PT1440M
X-PUBLISHED-TTL:PT1440M
BEGIN:VTIMEZONE
TZID:Etc/GMT+0
BEGIN:STANDARD
DTSTART:20250722T000000Z
TZOFFSETFROM:+0000
TZOFFSETTO:+0000
END:STANDARD
END:VTIMEZONE
BEGIN:VTIMEZONE
TZID:UTC
BEGIN:STANDARD
DTSTART:20250727T155939Z
TZOFFSETFROM:+0000
TZOFFSETTO:+0000
END:STANDARD
END:VTIMEZONE
BEGIN:VEVENT
UID:7322-1223
DTSTAMP:20260423T155939Z
SUMMARY:Redhawks Tournament all levels
LOCATION:
ORGANIZER;CN=Ed Shenandoah:MAILTO:Tshathonnhes@gmail.com
DTSTART;TZID=Etc/GMT+0;VALUE=DATE:20260418
DTEND;TZID=Etc/GMT+0;VALUE=DATE:20260420
X-ALT-DESC;FMTTYPE=TEXT/HTML:
CATEGORIES:General
URL;VALUE=URI:https://www.onondagafieldhouse.com/mc-events/redhawks-tournam
 ent-all-levels/
METHOD:PUBLISH
END:VEVENT
END:VCALENDAR