BEGIN:VCALENDAR
VERSION:2.0
PRODID:spatie/icalendar-generator
DESCRIPTION:Events from Onondaga Nation Fieldhouse
X-WR-CALDESC:Events from Onondaga Nation Fieldhouse
REFRESH-INTERVAL;VALUE=DURATION:PT1440M
X-PUBLISHED-TTL:PT1440M
BEGIN:VTIMEZONE
TZID:Etc/GMT+0
BEGIN:STANDARD
DTSTART:20250715T130000Z
TZOFFSETFROM:+0000
TZOFFSETTO:+0000
END:STANDARD
END:VTIMEZONE
BEGIN:VTIMEZONE
TZID:UTC
BEGIN:STANDARD
DTSTART:20250727T171044Z
TZOFFSETFROM:+0000
TZOFFSETTO:+0000
END:STANDARD
END:VTIMEZONE
BEGIN:VEVENT
UID:7591-1306
DTSTAMP:20260423T171044Z
SUMMARY:Softball
LOCATION:
ORGANIZER;CN=Ed Shenandoah:MAILTO:Tshathonnhes@gmail.com
DTSTART;TZID=Etc/GMT+0:20260411T130000
DTEND;TZID=Etc/GMT+0:20260411T150000
X-ALT-DESC;FMTTYPE=TEXT/HTML:
CATEGORIES:General
URL;VALUE=URI:https://www.onondagafieldhouse.com/mc-events/softball-13/
METHOD:PUBLISH
END:VEVENT
END:VCALENDAR